BEGIN:VCALENDAR
VERSION:2.0
PRODID:-//The Musettes - ECPv6.15.13.1//NONSGML v1.0//EN
CALSCALE:GREGORIAN
METHOD:PUBLISH
X-ORIGINAL-URL:https://www.themusettes.com
X-WR-CALDESC:Évènements pour The Musettes
REFRESH-INTERVAL;VALUE=DURATION:PT1H
X-Robots-Tag:noindex
X-PUBLISHED-TTL:PT1H
BEGIN:VTIMEZONE
TZID:Asia/Bangkok
BEGIN:STANDARD
TZOFFSETFROM:+0700
TZOFFSETTO:+0700
TZNAME:+07
DTSTART:20250101T000000
END:STANDARD
END:VTIMEZONE
BEGIN:VTIMEZONE
TZID:Asia/Dubai
BEGIN:STANDARD
TZOFFSETFROM:+0400
TZOFFSETTO:+0400
TZNAME:+04
DTSTART:20250101T000000
END:STANDARD
END:VTIMEZONE
BEGIN:VEVENT
DTSTART;TZID=Asia/Bangkok:20260204T183000
DTEND;TZID=Asia/Bangkok:20260204T220000
DTSTAMP:20260423T115848
CREATED:20260110T122547Z
LAST-MODIFIED:20260113T134757Z
UID:30557-1770229800-1770242400@www.themusettes.com
SUMMARY:Pitch Perfect – Clarifie ton message\, renforce ton impact
DESCRIPTION:📅 Mercredi 4 février\, 18h30\n💳 1750 THB \nPOUR  RÉGLER EN BATH C’EST ICI\nPitch Perfect – Clarifie ton message\, renforce ton impact\nSavoir ce que l’on fait est une chose.Savoir l’exprimer avec clarté\, justesse et impact en est une autre. \nPitch Perfect est un atelier immersif conçu pour t’aider à mieux comprendre l’impact de ta communication sur les autres et à affiner ton message\, qu’il s’agisse de parler de toi\, de ton projet ou de ton parcours professionnel. \nQue tu sois en recherche d’emploi\, en attente de promotion\, en création d’entreprise ou déjà bien engagée dans ton projet\, la qualité de ton pitch joue un rôle clé dans ta visibilité\, ta crédibilité et ta capacité à créer des opportunités. \nCet atelier te permettra de prendre du recul\, de structurer ton discours et d’aligner ton message avec ce que tu veux vraiment transmettre. \nPourquoi participer ?\nParce que ton message mérite d’être entendu\, compris et mémorable. \nAu cours de cet atelier\, tu travailleras sur : \n\n\nla clarté de ton message \n\n\nla cohérence entre ce que tu dis\, ce que tu montres et ce qui est perçu \n\n\nl’impact de ta communication verbale et non verbale \n\n\nta capacité à te présenter avec assurance\, sans te suradapter ni te surjustifier \n\n\nL’approche est à la fois réflexive\, concrète et participative\, avec des temps de travail individuel\, des échanges en groupe et des mises en pratique guidées. \n \nAu programme\n\n\nComprendre les mécanismes clés d’un pitch efficace \n\n\nIdentifier les points de friction ou de confusion dans ta communication \n\n\nClarifier ton message essentiel \n\n\nAjuster ton discours selon ton contexte (emploi\, business\, évolution professionnelle) \n\n\nBénéficier de retours et de regards croisés dans un cadre bienveillant \n\n\nLe tout dans une ambiance conviviale favorisant l’échange et l’intelligence collective. \n \nÀ propos de l’intervenante – Laure Garboua Tateossian\nLaure est experte en communication et stratégie de marque\, avec plus de 20 ans d’expérience dans l’accompagnement de grandes marques internationales. \nAncienne dirigeante au sein de groupes de communication de premier plan\, elle a travaillé aux côtés de maisons et entreprises de référence dans les univers du luxe\, de la beauté et des marques premium\, en France et à l’international. \nAujourd’hui consultante indépendante et fondatrice d’Activista\, Laure accompagne marques\, agences et organisations dans la transformation de leur communication\, la clarification de leur positionnement et la création d’expériences porteuses de sens et d’impact. \nSon approche allie vision stratégique\, exigence de clarté et compréhension fine des enjeux humains derrière chaque message. \n \nInformations pratiques\n\n\nDate : Mercredi 4 février \n\n\nHeure : Rendez-vous à 18h30 \n\n\nLieu : Be Creative – lobby floor – Mövenpick BDMS Bangkok \n\n\nTarif : \n\n\nEarly bird : 1 400 THB net jusqu’au vendredi 16 Janvier \n\n\nPuis : 1 750 THB – clôture des inscriptions Mardi 27 Janvier \n\n\n\n\nPlaces limitées : 20 participantes \n\n\nUn moment convivial autour de wine & cold cuts est inclus. \n=> Qu’en penses tu? pourrais tu me donner le lien une fois créé pour que je puisse le partager 🙂 \nBonne soirée et à demain pour notre rdv \n✨ Un atelier signé The Musettes – parce qu’ensemble\, on va plus loin. \n  \n 
URL:https://www.themusettes.com/event/pitch-perfect-clarifie-ton-message-renforce-ton-impact/
LOCATION:Movenpick\, 2 Wireless Rd\, Lumphini\,\, bangkok\, Sélectionner un État :\, 10330\, Thailand
CATEGORIES:Business Drinks
ATTACH;FMTTYPE=image/png:https://www.themusettes.com/wp-content/uploads/2026/01/Communities-personal-7.png
END:VEVENT
BEGIN:VEVENT
DTSTART;TZID=Asia/Dubai:20260209T083000
DTEND;TZID=Asia/Dubai:20260209T094500
DTSTAMP:20260423T115848
CREATED:20251125T045237Z
LAST-MODIFIED:20260113T160741Z
UID:30445-1770625800-1770630300@www.themusettes.com
SUMMARY:Meet\, Talk &  Walk
DESCRIPTION:🗓 9 fevrier🎟️ Gratuit pour les membres | 25 AED | 9 EUR\n \n \nRencontres inspirantes en mouvement- Gratuit pour les Membres\nEt si les plus belles connexions se faisaient en marchant\, loin des événements figés ?Avec Meet\, Talk & Walk\, The Musettes propose un format unique de rencontres entre femmes ambitieuses\, expatriées et entrepreneures\, dans un cadre naturel\, propice à l’introspection et à l’échange vrai. \n🚶‍♀️ Le concept\nDans un monde saturé de visios\, de to-do à rallonge  nous avons choisi la simplicité puissante de la marche. \n\nUn pas après l’autre\, on se rencontre autrement.On parle de business\, oui — mais aussi de rêves\, de doutes\, de ce qu’on ne dit pas souvent. \n\nEn binôme ou en petit groupe\, tu seras guidée par une série de questions miroir\, pour stimuler la réflexion\, l’écoute et les échanges profonds. \n💛 Ce que tu vivras\n\n\nUne marche-miroir dans Dubaï \n\n\nDes connexions humaines authentiques avec d’autres femmes de la communauté \n\n\nUn espace pour poser des mots sur ton parcours\, tes envies\, tes freins\, tes ambitions \n\n\nUn moment pour ralentir\, te reconnecter et t’inspirer \n\n\nAucune performance. Aucun pitch forcé. Juste des conversations qui comptent\, entre femmes qui se comprennent. \n\n📍 Prochaine édition\n🗓 Date :9 fevrier📍 Lieu : TBC👭 Places limitées : 20 participantes max \n💼 Profil : entrepreneures\, créatives\, indépendantes ou en transition pro🎟 Tarif : \n\nGratuit pour les membres\n25 AED pour les non-membres (l’équivalent d’un bon café partagé en chemin ☕😉)\n\n\n \n\n✨ Prête à marcher vers toi-même ?\nMeet\, Talk & Walk n’est pas un événement.C’est une parenthèse pour souffler\, s’aligner et se connecter profondément à l’autre — et à soi. \n👉 pense à t’inscrire \n\n  \n 
URL:https://www.themusettes.com/event/meet-talk-walk-3/
LOCATION:Sélectionner un État :
CATEGORIES:Meet talk & walk
ATTACH;FMTTYPE=image/png:https://www.themusettes.com/wp-content/uploads/2025/11/meet-wlak-fevrier.png
END:VEVENT
BEGIN:VEVENT
DTSTART;TZID=Asia/Dubai:20260212T190000
DTEND;TZID=Asia/Dubai:20260212T220000
DTSTAMP:20260423T115848
CREATED:20250708T113958Z
LAST-MODIFIED:20260112T145331Z
UID:30029-1770922800-1770933600@www.themusettes.com
SUMMARY:Alliances Stratégiques : Comment conclure des Partenariats?
DESCRIPTION:💬 Une soirée entre femmes qui osent.\nEt si on apprenait enfin à être franche\, à valoriser notre expertise sans baisser la voix\, à négocier sans peur — autour d’un verre\, entre femmes expatriées\, entrepreneures\, ambitieuses ? \nAvec The Musettes\, on t’invite à un moment inspirant\, élégant et utile\, en présence de la brillante Lousin Mehrabi\, experte en négociation et influence au niveau international. \n\nNotre invitée d’honneur : Dounia Jouron\n\n\n\n\n\n\n\n\n\n\n💻 +15 ans d’expérience dans les nouvelles technologies et la transformation digitale. \n\n\n🔗 Spécialiste des stratégies de partenariat et de la création d’alliances à long terme. \n\n\n🎓 Doctorante en sciences économiques\, appliquant sa recherche au sein d’un tech hub parisien. \n\n\n🇫🇷 A travaillé dans plusieurs FinTech françaises\, où elle a développé une méthode structurée pour bâtir des partenariats fructueux. \n\n\n👩‍🏫 Mentor et enseignante en Île-de-France pendant 6 ans : partage d’expérience via mentoring interne et livres blancs. \n\n\n🇦🇪 En 2021\, mandatée par Adyen à Dubaï pour élaborer la stratégie de partenariat locale. \n\n\n🌍 En 2024\, nommée Vice-Présidente Europe & Middle East chez Pine Labs\, chargée du développement d’alliances stratégiques et de l’expansion en Europe. \n\n\n🏅 La même année\, reconnue parmi les leaders marocains de moins de 40 ans\, pour son parcours dans la tech\, son esprit d’intrapreneure et sa vision humaine des relations professionnelles. \n\n\n\n\n\n\n \n\n\n\n\n \n\n\nCe soir-là\, Dounia nous partagera ses clés pour : \n\nUne compréhension claire de ce qu’est une alliance stratégique (et en quoi c’est différent d’un simple partenariat ou d’une collaboration ponctuelle).\n\nLes clés pour identifier les bons partenaires : ceux qui partagent tes valeurs\, ta vision et qui peuvent t’aider à faire grandir ton activité. \n\nDes outils et réflexes pour négocier intelligemment : poser les bonnes bases\, clarifier les attentes et créer de la confiance durable.\n\nUne checklist “pré-partenaire” : les questions à te poser avant de t’engager. \n\n\nDes exemples réels de partenariats réussis (et de ceux à éviter) tirés du parcours international de Dounia. \n\n\n\n \n🌸 Ce qui rend cette soirée unique \n\n\nC’est un moment intime\, chaleureux et sans chichi \n\n\nOn ne parle pas de stratégie froide\, mais de soft power féminin \n\n\nOn repart avec des outils concrets\, de la confiance… et des nouvelles connexions \n\n\n\n📍 Infos pratiques\n🗓 Date : 12 février🕖 Heure : 19h00 – 22h00📍 Lieu : TBC👭 Places limitées : 30 participantes max pour un bon networking💼 Profil : femmes expats\, (futures) entrepreneures\, porteuses de projet\, salariées ambitieuses🎟 Tarif :    210AED.   ✨ Pour les membres The Musettes : cet événement fait partie des rendez-vous inclus dans leur parcours — elles peuvent le choisir librement comme l’un de leurs événements du trimestre. \n👉 Inscris toi! \n\n💛 Tu repartiras avec…\n✨ Des clés puissantes pour tes prochaines négociations (pro ou perso)✨ Un sentiment de légitimité renforcée✨ Des rencontres fortes avec d’autres femmes qui te ressemblent✨ Et… de l’inspiration pour la suite ✨ \n\n  \n 
URL:https://www.themusettes.com/event/alliances-strategiques-comment-conclure-des-partenariats/
LOCATION:Sélectionner un État :
CATEGORIES:Business Drinks
ATTACH;FMTTYPE=image/png:https://www.themusettes.com/wp-content/uploads/2025/07/THE-MUSETTES-50.png
END:VEVENT
END:VCALENDAR