BEGIN:VCALENDAR
VERSION:2.0
PRODID:-//The Musettes - ECPv6.15.13.1//NONSGML v1.0//EN
CALSCALE:GREGORIAN
METHOD:PUBLISH
X-WR-CALNAME:The Musettes
X-ORIGINAL-URL:https://www.themusettes.com
X-WR-CALDESC:Évènements pour The Musettes
REFRESH-INTERVAL;VALUE=DURATION:PT1H
X-Robots-Tag:noindex
X-PUBLISHED-TTL:PT1H
BEGIN:VTIMEZONE
TZID:Europe/Paris
BEGIN:DAYLIGHT
TZOFFSETFROM:+0100
TZOFFSETTO:+0200
TZNAME:CEST
DTSTART:20240331T010000
END:DAYLIGHT
BEGIN:STANDARD
TZOFFSETFROM:+0200
TZOFFSETTO:+0100
TZNAME:CET
DTSTART:20241027T010000
END:STANDARD
BEGIN:DAYLIGHT
TZOFFSETFROM:+0100
TZOFFSETTO:+0200
TZNAME:CEST
DTSTART:20250330T010000
END:DAYLIGHT
BEGIN:STANDARD
TZOFFSETFROM:+0200
TZOFFSETTO:+0100
TZNAME:CET
DTSTART:20251026T010000
END:STANDARD
BEGIN:DAYLIGHT
TZOFFSETFROM:+0100
TZOFFSETTO:+0200
TZNAME:CEST
DTSTART:20260329T010000
END:DAYLIGHT
BEGIN:STANDARD
TZOFFSETFROM:+0200
TZOFFSETTO:+0100
TZNAME:CET
DTSTART:20261025T010000
END:STANDARD
END:VTIMEZONE
BEGIN:VEVENT
DTSTART;TZID=Europe/Paris:20251204T190000
DTEND;TZID=Europe/Paris:20251204T220000
DTSTAMP:20260421T134151
CREATED:20250610T105304Z
LAST-MODIFIED:20251202T121841Z
UID:29912-1764874800-1764885600@www.themusettes.com
SUMMARY:Concert & Networking
DESCRIPTION:POUR REGLER EN AED C’EST ICI\n🎄 Concert & Networking de Noël avec Clémence Guerrand\nUn moment suspendu pour finir l’année en beauté \nEt si on clôturait l’année sur une note de douceur\, d’inspiration et de sororité ? \nRejoins-nous pour une soirée exceptionnelle mêlant musique et rencontres\, pensée pour les femmes qui osent entreprendre\, créer\, se réinventer. \n✨ Au programme : \n\n\nUn concert intimiste au piano par la talentueuse Clémence Guerrand\, \n\n\nDes échanges profonds et authentiques avec d’autres femmes inspirantes\, \n\n\nUne atmosphère chaleureuse\, festive et élégante\, \n\n\nUn apéritif dînatoire pour trinquer à tout ce que tu as accompli… et à ce que tu t’apprêtes à créer. \n\n\n🎟 Événement payant – places limitéesCe moment unique est ouvert à toutes les femmes en quête de sens\, d’inspiration et de connexion. \n💫 Une soirée\, une vibration.Celle d’une communauté qui célèbre les parcours\, les voix\, les élans.Celle d’un piano qui raconte\, relie\, et nous rappelle qu’on est puissantes\, ensemble. \n👉 Réserve ta place dès maintenant \n🎹 À propos de Clémence Guerrand\nPianiste soliste\, entrepreneure culturelle et femme engagée\, Clémence Guerrand incarne une vision moderne et inspirante de la musique classique. \nFormée dès l’âge de 5 ans au conservatoire d’Avignon\, puis perfectionnée à Marseille et à l’École Normale de Musique de Paris\, elle collabore avec des solistes de renommée internationale et poursuit une carrière de concertiste à l’international\, notamment aux côtés de la mezzo-soprano Farrah El Dibany. \nSensible aux grands enjeux de société\, elle fonde en 2019 MAWOMA\, le premier concours itinérant au monde pour femmes chefs d’orchestre\, dont le premier événement a été inauguré en janvier 2019 à Paris\, en présence de Son Altesse Royale la Princesse Caroline de Hanovre. \nElle est également engagée auprès de l’AMADE\, marraine d’enfants via France Parrainage\, et investie dans la lutte contre les violences intra familiales \nOfficiant comme colonel de réserve opérationnelle de la gendarmerie nationale\, Clémence porte une vision artistique exigeante et profondément humaine.Elle est reconnue parmi les 100 Femmes de Culture en 2022 et est  Young Leader de la Fondation France-Asie. \nEn 2025\, elle fonde à Dubaï le  elle fonde à Dubaï le Prestigieux Cours Clémence Guerrand\, académie internationale de piano dédiée à l’excellence musicale. \nClémence parle six langues et joue du piano comme on respire : avec force\, finesse et une incroyable générosité. \nSURPRISE DE NOEL🎄 \n🎁 Et si tu repartais avec ta hotte de Noël après le concert?\n👉 À l’occasion de notre Concert & Networking de Noël\, compose ta hotte 100% personnalisée avec les créations des expatpreneures The Musettes.\n👉 Choisis 1\, 2 ou plusieurs produits selon tes envies à un prix spécial Musettes\n👉 Ta hotte sera prête le soir de l’événement : tu pourras la récupérer directement et la déposer sous le sapin. \nLivres\, brume de maison\, Kombucha\, foulards\, trousse de beauté\, pochette ordinateur\, Top\, Exfoliant…de quoi vous faire plaisir ou faire plaisir \n 
URL:https://www.themusettes.com/event/concert-networking/
LOCATION:Sélectionner un État :
ATTACH;FMTTYPE=image/jpeg:https://www.themusettes.com/wp-content/uploads/2025/06/Event-Noel.jpg
END:VEVENT
END:VCALENDAR